BEGIN:VCALENDAR
VERSION:2.0
PRODID:-//Catholic High School for Boys - ECPv6.15.14//NONSGML v1.0//EN
CALSCALE:GREGORIAN
METHOD:PUBLISH
X-WR-CALNAME:Catholic High School for Boys
X-ORIGINAL-URL:https://www.lrchs.org
X-WR-CALDESC:Events for Catholic High School for Boys
REFRESH-INTERVAL;VALUE=DURATION:PT1H
X-Robots-Tag:noindex
X-PUBLISHED-TTL:PT1H
BEGIN:VTIMEZONE
TZID:UTC
BEGIN:STANDARD
TZOFFSETFROM:+0000
TZOFFSETTO:+0000
TZNAME:UTC
DTSTART:20200101T000000
END:STANDARD
END:VTIMEZONE
BEGIN:VEVENT
DTSTART;VALUE=DATE:20210824
DTEND;VALUE=DATE:20210825
DTSTAMP:20260422T091853
CREATED:20210812T011100Z
LAST-MODIFIED:20210812T011100Z
UID:13006-1629763200-1629849599@www.lrchs.org
SUMMARY:Senior Yearbook and Ring Photos
DESCRIPTION:
URL:https://www.lrchs.org/event/senior-yearbook-and-ring-photos/
LOCATION:Catholic High School
CATEGORIES:LRCHS
END:VEVENT
BEGIN:VEVENT
DTSTART;TZID=UTC:20210824T080000
DTEND;TZID=UTC:20210824T123000
DTSTAMP:20260422T091853
CREATED:20210818T185317Z
LAST-MODIFIED:20210818T185317Z
UID:13106-1629792000-1629808200@www.lrchs.org
SUMMARY:Golf Tournament
DESCRIPTION:@ Conway/Conway Country Club\n18 Hole Tournament
URL:https://www.lrchs.org/event/golf-tournament/
LOCATION:Conway Country Club
CATEGORIES:LRCHS
END:VEVENT
BEGIN:VEVENT
DTSTART;TZID=UTC:20210824T081500
DTEND;TZID=UTC:20210824T084500
DTSTAMP:20260422T091853
CREATED:20210812T011139Z
LAST-MODIFIED:20210812T011139Z
UID:13007-1629792900-1629794700@www.lrchs.org
SUMMARY:Freshman Class Mass
DESCRIPTION:
URL:https://www.lrchs.org/event/freshman-class-mass/
LOCATION:Catholic High School
CATEGORIES:LRCHS
END:VEVENT
BEGIN:VEVENT
DTSTART;TZID=UTC:20210824T160000
DTEND;TZID=UTC:20210824T183000
DTSTAMP:20260422T091853
CREATED:20210818T185419Z
LAST-MODIFIED:20210818T185419Z
UID:13108-1629820800-1629829800@www.lrchs.org
SUMMARY:Golf Team Match
DESCRIPTION:vs. PA (Chenal Country Club)\n9 Hole Match
URL:https://www.lrchs.org/event/golf-team-match/
LOCATION:Chenal Country Club
CATEGORIES:LRCHS
END:VEVENT
END:VCALENDAR