BEGIN:VCALENDAR
VERSION:2.0
PRODID:-//Catholic High School for Boys - ECPv6.15.14//NONSGML v1.0//EN
CALSCALE:GREGORIAN
METHOD:PUBLISH
X-WR-CALNAME:Catholic High School for Boys
X-ORIGINAL-URL:https://www.lrchs.org
X-WR-CALDESC:Events for Catholic High School for Boys
REFRESH-INTERVAL;VALUE=DURATION:PT1H
X-Robots-Tag:noindex
X-PUBLISHED-TTL:PT1H
BEGIN:VTIMEZONE
TZID:UTC
BEGIN:STANDARD
TZOFFSETFROM:+0000
TZOFFSETTO:+0000
TZNAME:UTC
DTSTART:20210101T000000
END:STANDARD
END:VTIMEZONE
BEGIN:VEVENT
DTSTART;VALUE=DATE:20220428
DTEND;VALUE=DATE:20220429
DTSTAMP:20260423T091227
CREATED:20220215T214403Z
LAST-MODIFIED:20220215T214403Z
UID:13402-1651104000-1651190399@www.lrchs.org
SUMMARY:Sr. High Track 6A Conference Meet
DESCRIPTION:
URL:https://www.lrchs.org/event/sr-high-track-6a-conference-meet/
LOCATION:Scott Field
CATEGORIES:LRCHS
END:VEVENT
BEGIN:VEVENT
DTSTART;TZID=UTC:20220428T180000
DTEND;TZID=UTC:20220428T200000
DTSTAMP:20260423T091227
CREATED:20220425T211220Z
LAST-MODIFIED:20220425T211220Z
UID:13501-1651168800-1651176000@www.lrchs.org
SUMMARY:Alumni Event - Fayetteville
DESCRIPTION:
URL:https://www.lrchs.org/event/alumni-event-fayetteville/
LOCATION:Grubs
CATEGORIES:LRCHS
END:VEVENT
BEGIN:VEVENT
DTSTART;TZID=UTC:20220428T190000
DTEND;TZID=UTC:20220428T210000
DTSTAMP:20260423T091227
CREATED:20220315T003042Z
LAST-MODIFIED:20220426T184252Z
UID:13459-1651172400-1651179600@www.lrchs.org
SUMMARY:See How They Run School Play
DESCRIPTION:Come enjoy a fun evening and see our school play\, See How They Run\, April 28 – April 30.\n\n\nSee How They Run is set in the idyllic village of Merton-cum-Middlewick\, England\, during the 1940s. It’s World War II\, and the village inhabitants are preparing themselves for the imminent threat of Nazi invasion. But at the local vicarage\, home of Rev. Lionel and Penelope Toop\, there’s a different kind of mayhem…the hilarious kind! Galloping in and out of the vicarage are Miss Skillon\, the resident spinster who is jealous of the vicar’s new American wife; Penelope’s uncle\, the Bishop of Lax\, who has come to pay a call; Corporal Clive Winton\, a handsome American friend of Penelope’s who is stationed at the air base; Humphrey\, a visiting vicar who arrives to take the Sunday services; Ida\, the cockney maid\, who sees all but knows nothing; and escaped Russian prisoner of war; and finally\, the local policeman\, Sgt. Towers\, who tries to figure out exactly “Who’s the vicar ‘ere?”\n\n\n\nThursday\, April 28 @ 7pm\n$5 admission at the door or you can purchase tickets online using the link below.\nhttps://payit.nelnet.net/form/4wdtua7Z
URL:https://www.lrchs.org/event/see-how-they-run-school-play/
CATEGORIES:LRCHS
END:VEVENT
END:VCALENDAR