BEGIN:VCALENDAR
VERSION:2.0
PRODID:-//Catholic High School for Boys - ECPv6.15.14//NONSGML v1.0//EN
CALSCALE:GREGORIAN
METHOD:PUBLISH
X-ORIGINAL-URL:https://www.lrchs.org
X-WR-CALDESC:Events for Catholic High School for Boys
REFRESH-INTERVAL;VALUE=DURATION:PT1H
X-Robots-Tag:noindex
X-PUBLISHED-TTL:PT1H
BEGIN:VTIMEZONE
TZID:UTC
BEGIN:STANDARD
TZOFFSETFROM:+0000
TZOFFSETTO:+0000
TZNAME:UTC
DTSTART:20210101T000000
END:STANDARD
END:VTIMEZONE
BEGIN:VEVENT
DTSTART;TZID=UTC:20220430T140000
DTEND;TZID=UTC:20220430T160000
DTSTAMP:20260421T033431
CREATED:20220425T211117Z
LAST-MODIFIED:20220426T184116Z
UID:13500-1651327200-1651334400@www.lrchs.org
SUMMARY:See How They Run School Play
DESCRIPTION:Come enjoy a fun evening and see our school play\, See How They Run\, April 28 – April 30.\n\n\nSee How They Run is set in the idyllic village of Merton-cum-Middlewick\, England\, during the 1940s. It’s World War II\, and the village inhabitants are preparing themselves for the imminent threat of Nazi invasion. But at the local vicarage\, home of Rev. Lionel and Penelope Toop\, there’s a different kind of mayhem…the hilarious kind! Galloping in and out of the vicarage are Miss Skillon\, the resident spinster who is jealous of the vicar’s new American wife; Penelope’s uncle\, the Bishop of Lax\, who has come to pay a call; Corporal Clive Winton\, a handsome American friend of Penelope’s who is stationed at the air base; Humphrey\, a visiting vicar who arrives to take the Sunday services; Ida\, the cockney maid\, who sees all but knows nothing; and escaped Russian prisoner of war; and finally\, the local policeman\, Sgt. Towers\, who tries to figure out exactly “Who’s the vicar ‘ere?”\n\n\n\n\nSaturday\, April 30 @ 2pm\n$5 admission at the door or you can purchase tickets online using the link below.\nhttps://payit.nelnet.net/form/4wdtua7Z
URL:https://www.lrchs.org/event/see-how-they-run-school-play-3/
LOCATION:Catholic High School
CATEGORIES:LRCHS
END:VEVENT
END:VCALENDAR