BEGIN:VCALENDAR
VERSION:2.0
PRODID:-//Catholic High School for Boys - ECPv6.15.14//NONSGML v1.0//EN
CALSCALE:GREGORIAN
METHOD:PUBLISH
X-ORIGINAL-URL:https://www.lrchs.org
X-WR-CALDESC:Events for Catholic High School for Boys
REFRESH-INTERVAL;VALUE=DURATION:PT1H
X-Robots-Tag:noindex
X-PUBLISHED-TTL:PT1H
BEGIN:VTIMEZONE
TZID:UTC
BEGIN:STANDARD
TZOFFSETFROM:+0000
TZOFFSETTO:+0000
TZNAME:UTC
DTSTART:20210101T000000
END:STANDARD
END:VTIMEZONE
BEGIN:VEVENT
DTSTART;TZID=UTC:20220504T173000
DTEND;TZID=UTC:20220504T193000
DTSTAMP:20260421T100518
CREATED:20220315T003227Z
LAST-MODIFIED:20220315T003237Z
UID:13462-1651685400-1651692600@www.lrchs.org
SUMMARY:Sports Banquet
DESCRIPTION:More information to come soon
URL:https://www.lrchs.org/event/sports-banquet-2/
LOCATION:Catholic High School
CATEGORIES:LRCHS
END:VEVENT
END:VCALENDAR