BEGIN:VCALENDAR
VERSION:2.0
PRODID:-//Catholic High School for Boys - ECPv6.15.14//NONSGML v1.0//EN
CALSCALE:GREGORIAN
METHOD:PUBLISH
X-ORIGINAL-URL:https://www.lrchs.org
X-WR-CALDESC:Events for Catholic High School for Boys
REFRESH-INTERVAL;VALUE=DURATION:PT1H
X-Robots-Tag:noindex
X-PUBLISHED-TTL:PT1H
BEGIN:VTIMEZONE
TZID:UTC
BEGIN:STANDARD
TZOFFSETFROM:+0000
TZOFFSETTO:+0000
TZNAME:UTC
DTSTART:20210101T000000
END:STANDARD
END:VTIMEZONE
BEGIN:VEVENT
DTSTART;TZID=UTC:20221014T170000
DTEND;TZID=UTC:20221014T190000
DTSTAMP:20260425T135538
CREATED:20220714T210713Z
LAST-MODIFIED:20220714T210713Z
UID:13586-1665766800-1665774000@www.lrchs.org
SUMMARY:Homecoming Picnic
DESCRIPTION:Sponsored by the CHS Foundation/Alumni Association \nBring a tent\, hang a class banner\, bring chairs\, and have a good old fashioned tailgate before the game.  If you would like to have a class tent\, please set up after 12:00 p.m. noon. Free food and drink for Catholic High alumni\, students and families.
URL:https://www.lrchs.org/event/homecoming-picnic-2/
LOCATION:War Memorial Stadium
CATEGORIES:LRCHS
END:VEVENT
BEGIN:VEVENT
DTSTART;TZID=UTC:20221014T190000
DTEND;TZID=UTC:20221014T210000
DTSTAMP:20260425T135538
CREATED:20220714T210547Z
LAST-MODIFIED:20220714T210547Z
UID:13585-1665774000-1665781200@www.lrchs.org
SUMMARY:Varsity Football Game (Homecoming)
DESCRIPTION:Sylvan Hills
URL:https://www.lrchs.org/event/varsity-football-game-homecoming-4/
LOCATION:War Memorial Stadium
CATEGORIES:LRCHS
END:VEVENT
END:VCALENDAR