BEGIN:VCALENDAR
VERSION:2.0
PRODID:-//Catholic High School for Boys - ECPv6.15.14//NONSGML v1.0//EN
CALSCALE:GREGORIAN
METHOD:PUBLISH
X-ORIGINAL-URL:https://www.lrchs.org
X-WR-CALDESC:Events for Catholic High School for Boys
REFRESH-INTERVAL;VALUE=DURATION:PT1H
X-Robots-Tag:noindex
X-PUBLISHED-TTL:PT1H
BEGIN:VTIMEZONE
TZID:UTC
BEGIN:STANDARD
TZOFFSETFROM:+0000
TZOFFSETTO:+0000
TZNAME:UTC
DTSTART:20210101T000000
END:STANDARD
END:VTIMEZONE
BEGIN:VEVENT
DTSTART;TZID=UTC:20221015T190000
DTEND;TZID=UTC:20221015T220000
DTSTAMP:20260425T161518
CREATED:20220714T210806Z
LAST-MODIFIED:20220929T190320Z
UID:13587-1665860400-1665871200@www.lrchs.org
SUMMARY:Homecoming Dance
DESCRIPTION:Students must arrive by 8:00 and may not leave earlier than 9:30. Tickets will be sold for $5 each the week of homecoming during lunch.
URL:https://www.lrchs.org/event/homecoming-dance-3/
CATEGORIES:LRCHS
END:VEVENT
END:VCALENDAR