BEGIN:VCALENDAR
VERSION:2.0
PRODID:-//Catholic High School for Boys - ECPv6.15.14//NONSGML v1.0//EN
CALSCALE:GREGORIAN
METHOD:PUBLISH
X-ORIGINAL-URL:https://www.lrchs.org
X-WR-CALDESC:Events for Catholic High School for Boys
REFRESH-INTERVAL;VALUE=DURATION:PT1H
X-Robots-Tag:noindex
X-PUBLISHED-TTL:PT1H
BEGIN:VTIMEZONE
TZID:UTC
BEGIN:STANDARD
TZOFFSETFROM:+0000
TZOFFSETTO:+0000
TZNAME:UTC
DTSTART:20210101T000000
END:STANDARD
END:VTIMEZONE
BEGIN:VEVENT
DTSTART;TZID=UTC:20221028T190000
DTEND;TZID=UTC:20221028T210000
DTSTAMP:20260421T083709
CREATED:20220714T211907Z
LAST-MODIFIED:20220718T195704Z
UID:13597-1666983600-1666990800@www.lrchs.org
SUMMARY:Varsity Football Game (Away)
DESCRIPTION:@ El Dorado
URL:https://www.lrchs.org/event/varsity-football-game-39/
LOCATION:El Dorado High School\, 2000 Wildcat Dr\, El Dorado\, Arkansas\, 71730
CATEGORIES:LRCHS
END:VEVENT
END:VCALENDAR