BEGIN:VCALENDAR
VERSION:2.0
PRODID:-//Catholic High School for Boys - ECPv6.15.14//NONSGML v1.0//EN
CALSCALE:GREGORIAN
METHOD:PUBLISH
X-WR-CALNAME:Catholic High School for Boys
X-ORIGINAL-URL:https://www.lrchs.org
X-WR-CALDESC:Events for Catholic High School for Boys
REFRESH-INTERVAL;VALUE=DURATION:PT1H
X-Robots-Tag:noindex
X-PUBLISHED-TTL:PT1H
BEGIN:VTIMEZONE
TZID:UTC
BEGIN:STANDARD
TZOFFSETFROM:+0000
TZOFFSETTO:+0000
TZNAME:UTC
DTSTART:20210101T000000
END:STANDARD
END:VTIMEZONE
BEGIN:VEVENT
DTSTART;VALUE=DATE:20221129
DTEND;VALUE=DATE:20221204
DTSTAMP:20260423T063041
CREATED:20220815T234408Z
LAST-MODIFIED:20220815T234408Z
UID:13697-1669680000-1670111999@www.lrchs.org
SUMMARY:Searcy Bank Classic Basketball Tournament
DESCRIPTION:@ Searcy
URL:https://www.lrchs.org/event/searcy-bank-classic-basketball-tournament-2/
LOCATION:Searcy High School\, 301 N Ela\, Searcy\, Arkansas\, 72143
CATEGORIES:LRCHS
END:VEVENT
BEGIN:VEVENT
DTSTART;TZID=UTC:20221201T100000
DTEND;TZID=UTC:20221201T170000
DTSTAMP:20260423T063041
CREATED:20220714T213045Z
LAST-MODIFIED:20220714T213045Z
UID:13605-1669888800-1669914000@www.lrchs.org
SUMMARY:Rocket Christmas Shoppe
DESCRIPTION:it is the most wonderful time of year – The CHS Christmas Shoppe! It’s one day only on Thursday\, December 1 in the Catholic High Annex Turf Room. Doors open at 10AM and close at 5:00PM. Shop early because these items will go fast! We have the perfect holiday gifts for everyone in your Rocket family.
URL:https://www.lrchs.org/event/rocket-christmas-shoppe-8/
LOCATION:Catholic High School
CATEGORIES:LRCHS
END:VEVENT
BEGIN:VEVENT
DTSTART;TZID=UTC:20221201T190000
DTEND;TZID=UTC:20221201T200000
DTSTAMP:20260423T063041
CREATED:20220816T001503Z
LAST-MODIFIED:20221128T164456Z
UID:13734-1669921200-1669924800@www.lrchs.org
SUMMARY:Freshman Basketball Game (Away)
DESCRIPTION:vs. Bryant
URL:https://www.lrchs.org/event/freshman-basketball-game-away-2/
LOCATION:Bryant Junior High School
CATEGORIES:LRCHS
END:VEVENT
END:VCALENDAR