BEGIN:VCALENDAR
VERSION:2.0
PRODID:-//Catholic High School for Boys - ECPv6.15.14//NONSGML v1.0//EN
CALSCALE:GREGORIAN
METHOD:PUBLISH
X-WR-CALNAME:Catholic High School for Boys
X-ORIGINAL-URL:https://www.lrchs.org
X-WR-CALDESC:Events for Catholic High School for Boys
REFRESH-INTERVAL;VALUE=DURATION:PT1H
X-Robots-Tag:noindex
X-PUBLISHED-TTL:PT1H
BEGIN:VTIMEZONE
TZID:UTC
BEGIN:STANDARD
TZOFFSETFROM:+0000
TZOFFSETTO:+0000
TZNAME:UTC
DTSTART:20220101T000000
END:STANDARD
END:VTIMEZONE
BEGIN:VEVENT
DTSTART;TZID=UTC:20230217T193000
DTEND;TZID=UTC:20230217T203000
DTSTAMP:20260423T073938
CREATED:20220816T000941Z
LAST-MODIFIED:20220816T000941Z
UID:13725-1676662200-1676665800@www.lrchs.org
SUMMARY:Varsity Basketball Game (Away)
DESCRIPTION:@ Maumelle
URL:https://www.lrchs.org/event/varsity-basketball-game-away-14/
LOCATION:Maumelle High School
CATEGORIES:LRCHS
END:VEVENT
END:VCALENDAR