BEGIN:VCALENDAR
VERSION:2.0
PRODID:-//Catholic High School for Boys - ECPv6.15.14//NONSGML v1.0//EN
CALSCALE:GREGORIAN
METHOD:PUBLISH
X-WR-CALNAME:Catholic High School for Boys
X-ORIGINAL-URL:https://www.lrchs.org
X-WR-CALDESC:Events for Catholic High School for Boys
REFRESH-INTERVAL;VALUE=DURATION:PT1H
X-Robots-Tag:noindex
X-PUBLISHED-TTL:PT1H
BEGIN:VTIMEZONE
TZID:America/Chicago
BEGIN:DAYLIGHT
TZOFFSETFROM:-0600
TZOFFSETTO:-0500
TZNAME:CDT
DTSTART:20220313T080000
END:DAYLIGHT
BEGIN:STANDARD
TZOFFSETFROM:-0500
TZOFFSETTO:-0600
TZNAME:CST
DTSTART:20221106T070000
END:STANDARD
BEGIN:DAYLIGHT
TZOFFSETFROM:-0600
TZOFFSETTO:-0500
TZNAME:CDT
DTSTART:20230312T080000
END:DAYLIGHT
BEGIN:STANDARD
TZOFFSETFROM:-0500
TZOFFSETTO:-0600
TZNAME:CST
DTSTART:20231105T070000
END:STANDARD
BEGIN:DAYLIGHT
TZOFFSETFROM:-0600
TZOFFSETTO:-0500
TZNAME:CDT
DTSTART:20240310T080000
END:DAYLIGHT
BEGIN:STANDARD
TZOFFSETFROM:-0500
TZOFFSETTO:-0600
TZNAME:CST
DTSTART:20241103T070000
END:STANDARD
END:VTIMEZONE
BEGIN:VEVENT
DTSTART;TZID=America/Chicago:20230420T113000
DTEND;TZID=America/Chicago:20230420T173000
DTSTAMP:20260425T173516
CREATED:20230120T201329Z
LAST-MODIFIED:20230209T153828Z
UID:13860-1681990200-1682011800@www.lrchs.org
SUMMARY:Msgr. George Tribou Memorial Golf Tournament
DESCRIPTION:If you would like to register\, click here. \n 
URL:https://www.lrchs.org/event/msgr-george-tribou-memorial-golf-tournament-6/
LOCATION:Rebsamen Golf Course
CATEGORIES:LRCHS
END:VEVENT
BEGIN:VEVENT
DTSTART;TZID=America/Chicago:20230420T160000
DTEND;TZID=America/Chicago:20230420T190000
DTSTAMP:20260425T173516
CREATED:20230124T142534Z
LAST-MODIFIED:20230419T130454Z
UID:13922-1682006400-1682017200@www.lrchs.org
SUMMARY:V/JV Baseball Game (Away)
DESCRIPTION:@ Jonesboro
URL:https://www.lrchs.org/event/v-jv-baseball-game-away-8/
LOCATION:Jonesboro High School
CATEGORIES:LRCHS
END:VEVENT
END:VCALENDAR