BEGIN:VCALENDAR
VERSION:2.0
PRODID:-//Catholic High School for Boys - ECPv6.15.14//NONSGML v1.0//EN
CALSCALE:GREGORIAN
METHOD:PUBLISH
X-ORIGINAL-URL:https://www.lrchs.org
X-WR-CALDESC:Events for Catholic High School for Boys
REFRESH-INTERVAL;VALUE=DURATION:PT1H
X-Robots-Tag:noindex
X-PUBLISHED-TTL:PT1H
BEGIN:VTIMEZONE
TZID:UTC
BEGIN:STANDARD
TZOFFSETFROM:+0000
TZOFFSETTO:+0000
TZNAME:UTC
DTSTART:20220101T000000
END:STANDARD
END:VTIMEZONE
BEGIN:VTIMEZONE
TZID:America/Chicago
BEGIN:DAYLIGHT
TZOFFSETFROM:-0600
TZOFFSETTO:-0500
TZNAME:CDT
DTSTART:20220313T080000
END:DAYLIGHT
BEGIN:STANDARD
TZOFFSETFROM:-0500
TZOFFSETTO:-0600
TZNAME:CST
DTSTART:20221106T070000
END:STANDARD
BEGIN:DAYLIGHT
TZOFFSETFROM:-0600
TZOFFSETTO:-0500
TZNAME:CDT
DTSTART:20230312T080000
END:DAYLIGHT
BEGIN:STANDARD
TZOFFSETFROM:-0500
TZOFFSETTO:-0600
TZNAME:CST
DTSTART:20231105T070000
END:STANDARD
BEGIN:DAYLIGHT
TZOFFSETFROM:-0600
TZOFFSETTO:-0500
TZNAME:CDT
DTSTART:20240310T080000
END:DAYLIGHT
BEGIN:STANDARD
TZOFFSETFROM:-0500
TZOFFSETTO:-0600
TZNAME:CST
DTSTART:20241103T070000
END:STANDARD
END:VTIMEZONE
BEGIN:VEVENT
DTSTART;VALUE=DATE:20230508
DTEND;VALUE=DATE:20230509
DTSTAMP:20260425T122219
CREATED:20220714T215902Z
LAST-MODIFIED:20220714T215902Z
UID:13634-1683504000-1683590399@www.lrchs.org
SUMMARY:Last Day of Classes for Seniors
DESCRIPTION:
URL:https://www.lrchs.org/event/last-day-of-classes-for-seniors/
CATEGORIES:LRCHS
END:VEVENT
BEGIN:VEVENT
DTSTART;TZID=UTC:20230508T080000
DTEND;TZID=UTC:20230508T090000
DTSTAMP:20260425T122219
CREATED:20220714T215944Z
LAST-MODIFIED:20220714T215944Z
UID:13635-1683532800-1683536400@www.lrchs.org
SUMMARY:Senior Breakfast sponsored by the Young Alumni
DESCRIPTION:
URL:https://www.lrchs.org/event/senior-breakfast-sponsored-by-the-young-alumni/
LOCATION:Catholic High School
CATEGORIES:LRCHS
END:VEVENT
BEGIN:VEVENT
DTSTART;TZID=America/Chicago:20230508T170000
DTEND;TZID=America/Chicago:20230508T193000
DTSTAMP:20260425T122219
CREATED:20230124T143121Z
LAST-MODIFIED:20230124T143121Z
UID:13932-1683565200-1683574200@www.lrchs.org
SUMMARY:V/JV Baseball Game (Away)
DESCRIPTION:@ Benton
URL:https://www.lrchs.org/event/v-jv-baseball-game-away-11/
LOCATION:Benton High School
CATEGORIES:LRCHS
END:VEVENT
END:VCALENDAR