BEGIN:VCALENDAR
VERSION:2.0
PRODID:-//Catholic High School for Boys - ECPv6.15.14//NONSGML v1.0//EN
CALSCALE:GREGORIAN
METHOD:PUBLISH
X-WR-CALNAME:Catholic High School for Boys
X-ORIGINAL-URL:https://www.lrchs.org
X-WR-CALDESC:Events for Catholic High School for Boys
REFRESH-INTERVAL;VALUE=DURATION:PT1H
X-Robots-Tag:noindex
X-PUBLISHED-TTL:PT1H
BEGIN:VTIMEZONE
TZID:UTC
BEGIN:STANDARD
TZOFFSETFROM:+0000
TZOFFSETTO:+0000
TZNAME:UTC
DTSTART:20220101T000000
END:STANDARD
END:VTIMEZONE
BEGIN:VEVENT
DTSTART;TZID=UTC:20230515T100000
DTEND;TZID=UTC:20230515T120000
DTSTAMP:20260421T112505
CREATED:20220714T220212Z
LAST-MODIFIED:20220714T220212Z
UID:13640-1684144800-1684152000@www.lrchs.org
SUMMARY:Graduation Practice for Seniors
DESCRIPTION:
URL:https://www.lrchs.org/event/graduation-practice-for-seniors-2/
CATEGORIES:LRCHS
END:VEVENT
BEGIN:VEVENT
DTSTART;TZID=UTC:20230515T160000
DTEND;TZID=UTC:20230515T180000
DTSTAMP:20260421T112505
CREATED:20220714T220136Z
LAST-MODIFIED:20230424T141025Z
UID:13639-1684166400-1684173600@www.lrchs.org
SUMMARY:Senior BBQ (Seniors Only)
DESCRIPTION:
URL:https://www.lrchs.org/event/senior-bbq-seniors-only-3/
LOCATION:Catholic High School
CATEGORIES:LRCHS
END:VEVENT
END:VCALENDAR