BEGIN:VCALENDAR
VERSION:2.0
PRODID:-//Catholic High School for Boys - ECPv6.15.14//NONSGML v1.0//EN
CALSCALE:GREGORIAN
METHOD:PUBLISH
X-ORIGINAL-URL:https://www.lrchs.org
X-WR-CALDESC:Events for Catholic High School for Boys
REFRESH-INTERVAL;VALUE=DURATION:PT1H
X-Robots-Tag:noindex
X-PUBLISHED-TTL:PT1H
BEGIN:VTIMEZONE
TZID:America/Chicago
BEGIN:DAYLIGHT
TZOFFSETFROM:-0600
TZOFFSETTO:-0500
TZNAME:CDT
DTSTART:20250309T080000
END:DAYLIGHT
BEGIN:STANDARD
TZOFFSETFROM:-0500
TZOFFSETTO:-0600
TZNAME:CST
DTSTART:20251102T070000
END:STANDARD
BEGIN:DAYLIGHT
TZOFFSETFROM:-0600
TZOFFSETTO:-0500
TZNAME:CDT
DTSTART:20260308T080000
END:DAYLIGHT
BEGIN:STANDARD
TZOFFSETFROM:-0500
TZOFFSETTO:-0600
TZNAME:CST
DTSTART:20261101T070000
END:STANDARD
BEGIN:DAYLIGHT
TZOFFSETFROM:-0600
TZOFFSETTO:-0500
TZNAME:CDT
DTSTART:20270314T080000
END:DAYLIGHT
BEGIN:STANDARD
TZOFFSETFROM:-0500
TZOFFSETTO:-0600
TZNAME:CST
DTSTART:20271107T070000
END:STANDARD
END:VTIMEZONE
BEGIN:VEVENT
DTSTART;TZID=America/Chicago:20260401T173000
DTEND;TZID=America/Chicago:20260401T190000
DTSTAMP:20260423T135152
CREATED:20260309T150933Z
LAST-MODIFIED:20260309T150945Z
UID:15372-1775064600-1775070000@www.lrchs.org
SUMMARY:Coaches/Sponsors Appreciation Dinner
DESCRIPTION:For Coaches and Sponsors Only
URL:https://www.lrchs.org/event/coaches-sponsors-appreciation-dinner/
LOCATION:Cotham’s in the City\, 1401 W 3rd St\, Little Rock\, AR\, 72201
CATEGORIES:LRCHS
END:VEVENT
END:VCALENDAR