BEGIN:VCALENDAR
VERSION:2.0
PRODID:-//Catholic High School for Boys - ECPv6.15.14//NONSGML v1.0//EN
CALSCALE:GREGORIAN
METHOD:PUBLISH
X-WR-CALNAME:Catholic High School for Boys
X-ORIGINAL-URL:https://www.lrchs.org
X-WR-CALDESC:Events for Catholic High School for Boys
REFRESH-INTERVAL;VALUE=DURATION:PT1H
X-Robots-Tag:noindex
X-PUBLISHED-TTL:PT1H
BEGIN:VTIMEZONE
TZID:America/Chicago
BEGIN:DAYLIGHT
TZOFFSETFROM:-0600
TZOFFSETTO:-0500
TZNAME:CDT
DTSTART:20250309T080000
END:DAYLIGHT
BEGIN:STANDARD
TZOFFSETFROM:-0500
TZOFFSETTO:-0600
TZNAME:CST
DTSTART:20251102T070000
END:STANDARD
BEGIN:DAYLIGHT
TZOFFSETFROM:-0600
TZOFFSETTO:-0500
TZNAME:CDT
DTSTART:20260308T080000
END:DAYLIGHT
BEGIN:STANDARD
TZOFFSETFROM:-0500
TZOFFSETTO:-0600
TZNAME:CST
DTSTART:20261101T070000
END:STANDARD
BEGIN:DAYLIGHT
TZOFFSETFROM:-0600
TZOFFSETTO:-0500
TZNAME:CDT
DTSTART:20270314T080000
END:DAYLIGHT
BEGIN:STANDARD
TZOFFSETFROM:-0500
TZOFFSETTO:-0600
TZNAME:CST
DTSTART:20271107T070000
END:STANDARD
END:VTIMEZONE
BEGIN:VEVENT
DTSTART;TZID=America/Chicago:20260127T081500
DTEND;TZID=America/Chicago:20260127T084500
DTSTAMP:20260421T072342
CREATED:20250717T221152Z
LAST-MODIFIED:20250717T221152Z
UID:15173-1769501700-1769503500@www.lrchs.org
SUMMARY:Junior Class Mass
DESCRIPTION:
URL:https://www.lrchs.org/event/junior-class-mass-11/
CATEGORIES:LRCHS
END:VEVENT
END:VCALENDAR