BEGIN:VCALENDAR
VERSION:2.0
PRODID:-//Catholic High School for Boys - ECPv6.15.14//NONSGML v1.0//EN
CALSCALE:GREGORIAN
METHOD:PUBLISH
X-ORIGINAL-URL:https://www.lrchs.org
X-WR-CALDESC:Events for Catholic High School for Boys
REFRESH-INTERVAL;VALUE=DURATION:PT1H
X-Robots-Tag:noindex
X-PUBLISHED-TTL:PT1H
BEGIN:VTIMEZONE
TZID:America/Chicago
BEGIN:DAYLIGHT
TZOFFSETFROM:-0600
TZOFFSETTO:-0500
TZNAME:CDT
DTSTART:20250309T080000
END:DAYLIGHT
BEGIN:STANDARD
TZOFFSETFROM:-0500
TZOFFSETTO:-0600
TZNAME:CST
DTSTART:20251102T070000
END:STANDARD
BEGIN:DAYLIGHT
TZOFFSETFROM:-0600
TZOFFSETTO:-0500
TZNAME:CDT
DTSTART:20260308T080000
END:DAYLIGHT
BEGIN:STANDARD
TZOFFSETFROM:-0500
TZOFFSETTO:-0600
TZNAME:CST
DTSTART:20261101T070000
END:STANDARD
BEGIN:DAYLIGHT
TZOFFSETFROM:-0600
TZOFFSETTO:-0500
TZNAME:CDT
DTSTART:20270314T080000
END:DAYLIGHT
BEGIN:STANDARD
TZOFFSETFROM:-0500
TZOFFSETTO:-0600
TZNAME:CST
DTSTART:20271107T070000
END:STANDARD
END:VTIMEZONE
BEGIN:VEVENT
DTSTART;TZID=America/Chicago:20260310T081500
DTEND;TZID=America/Chicago:20260310T084500
DTSTAMP:20260421T192548
CREATED:20250717T221309Z
LAST-MODIFIED:20250717T221309Z
UID:15175-1773130500-1773132300@www.lrchs.org
SUMMARY:Freshman Class Mass
DESCRIPTION:
URL:https://www.lrchs.org/event/freshman-class-mass-11/
CATEGORIES:LRCHS
END:VEVENT
BEGIN:VEVENT
DTSTART;TZID=America/Chicago:20260317T081500
DTEND;TZID=America/Chicago:20260317T084500
DTSTAMP:20260421T192548
CREATED:20250717T221338Z
LAST-MODIFIED:20250717T221338Z
UID:15176-1773735300-1773737100@www.lrchs.org
SUMMARY:Sophomore Class Mass
DESCRIPTION:
URL:https://www.lrchs.org/event/sophomore-class-mass-13/
CATEGORIES:LRCHS
END:VEVENT
BEGIN:VEVENT
DTSTART;TZID=America/Chicago:20260319T180000
DTEND;TZID=America/Chicago:20260319T193000
DTSTAMP:20260421T192548
CREATED:20260309T150759Z
LAST-MODIFIED:20260313T141531Z
UID:15371-1773943200-1773948600@www.lrchs.org
SUMMARY:MCJROTC Change of Command
DESCRIPTION:
URL:https://www.lrchs.org/event/mcjrotc-change-of-command-6/
LOCATION:Catholic High School
CATEGORIES:LRCHS
END:VEVENT
BEGIN:VEVENT
DTSTART;VALUE=DATE:20260323
DTEND;VALUE=DATE:20260328
DTSTAMP:20260421T192548
CREATED:20250619T212839Z
LAST-MODIFIED:20250619T212839Z
UID:15112-1774224000-1774655999@www.lrchs.org
SUMMARY:Spring Break
DESCRIPTION:
URL:https://www.lrchs.org/event/spring-break-11/
CATEGORIES:LRCHS
END:VEVENT
BEGIN:VEVENT
DTSTART;TZID=America/Chicago:20260401T173000
DTEND;TZID=America/Chicago:20260401T190000
DTSTAMP:20260421T192548
CREATED:20260309T150933Z
LAST-MODIFIED:20260309T150945Z
UID:15372-1775064600-1775070000@www.lrchs.org
SUMMARY:Coaches/Sponsors Appreciation Dinner
DESCRIPTION:For Coaches and Sponsors Only
URL:https://www.lrchs.org/event/coaches-sponsors-appreciation-dinner/
LOCATION:Cotham’s in the City\, 1401 W 3rd St\, Little Rock\, AR\, 72201
CATEGORIES:LRCHS
END:VEVENT
BEGIN:VEVENT
DTSTART;VALUE=DATE:20260403
DTEND;VALUE=DATE:20260404
DTSTAMP:20260421T192548
CREATED:20250619T213237Z
LAST-MODIFIED:20250619T213237Z
UID:15118-1775174400-1775260799@www.lrchs.org
SUMMARY:Good Friday - No School
DESCRIPTION:
URL:https://www.lrchs.org/event/good-friday-no-school-4/
CATEGORIES:LRCHS
END:VEVENT
BEGIN:VEVENT
DTSTART;VALUE=DATE:20260405
DTEND;VALUE=DATE:20260406
DTSTAMP:20260421T192548
CREATED:20250619T213256Z
LAST-MODIFIED:20250619T213256Z
UID:15119-1775347200-1775433599@www.lrchs.org
SUMMARY:Easter
DESCRIPTION:
URL:https://www.lrchs.org/event/easter-5/
CATEGORIES:LRCHS
END:VEVENT
BEGIN:VEVENT
DTSTART;VALUE=DATE:20260406
DTEND;VALUE=DATE:20260407
DTSTAMP:20260421T192548
CREATED:20260309T151010Z
LAST-MODIFIED:20260309T151010Z
UID:15374-1775433600-1775519999@www.lrchs.org
SUMMARY:Easter Monday - No School
DESCRIPTION:
URL:https://www.lrchs.org/event/easter-monday-no-school-5/
CATEGORIES:LRCHS
END:VEVENT
BEGIN:VEVENT
DTSTART;TZID=America/Chicago:20260407T081500
DTEND;TZID=America/Chicago:20260407T084500
DTSTAMP:20260421T192548
CREATED:20250717T221537Z
LAST-MODIFIED:20250717T221537Z
UID:15179-1775549700-1775551500@www.lrchs.org
SUMMARY:Junior Class Mass
DESCRIPTION:
URL:https://www.lrchs.org/event/junior-class-mass-12/
CATEGORIES:LRCHS
END:VEVENT
BEGIN:VEVENT
DTSTART;VALUE=DATE:20260411
DTEND;VALUE=DATE:20260412
DTSTAMP:20260421T192548
CREATED:20250717T221559Z
LAST-MODIFIED:20250717T221559Z
UID:15180-1775865600-1775951999@www.lrchs.org
SUMMARY:Little Rock Diocese Youth Convention
DESCRIPTION:
URL:https://www.lrchs.org/event/little-rock-diocese-youth-convention/
CATEGORIES:LRCHS
END:VEVENT
BEGIN:VEVENT
DTSTART;TZID=America/Chicago:20260411T080000
DTEND;TZID=America/Chicago:20260411T093000
DTSTAMP:20260421T192548
CREATED:20250619T214531Z
LAST-MODIFIED:20250619T214531Z
UID:15136-1775894400-1775899800@www.lrchs.org
SUMMARY:Rocket 5K Race
DESCRIPTION:
URL:https://www.lrchs.org/event/rocket-5k-race-10/
LOCATION:Catholic High School
CATEGORIES:LRCHS
END:VEVENT
BEGIN:VEVENT
DTSTART;TZID=America/Chicago:20260414T180000
DTEND;TZID=America/Chicago:20260414T200000
DTSTAMP:20260421T192548
CREATED:20250717T221631Z
LAST-MODIFIED:20250717T221631Z
UID:15181-1776189600-1776196800@www.lrchs.org
SUMMARY:Incoming Freshmen Orientation
DESCRIPTION:
URL:https://www.lrchs.org/event/incoming-freshmen-orientation-4/
CATEGORIES:LRCHS
END:VEVENT
BEGIN:VEVENT
DTSTART;TZID=America/Chicago:20260417T190000
DTEND;TZID=America/Chicago:20260418T210000
DTSTAMP:20260421T192548
CREATED:20260127T175304Z
LAST-MODIFIED:20260127T175304Z
UID:15332-1776452400-1776546000@www.lrchs.org
SUMMARY:The Outsiders School Play
DESCRIPTION:
URL:https://www.lrchs.org/event/the-outsiders-school-play/
CATEGORIES:LRCHS
END:VEVENT
BEGIN:VEVENT
DTSTART;TZID=America/Chicago:20260419T140000
DTEND;TZID=America/Chicago:20260419T160000
DTSTAMP:20260421T192548
CREATED:20260127T175335Z
LAST-MODIFIED:20260127T175335Z
UID:15333-1776607200-1776614400@www.lrchs.org
SUMMARY:The Outsiders School Play
DESCRIPTION:
URL:https://www.lrchs.org/event/the-outsiders-school-play-2/
CATEGORIES:LRCHS
END:VEVENT
BEGIN:VEVENT
DTSTART;TZID=America/Chicago:20260420T103000
DTEND;TZID=America/Chicago:20260420T123000
DTSTAMP:20260421T192548
CREATED:20260209T171629Z
LAST-MODIFIED:20260209T171629Z
UID:15353-1776681000-1776688200@www.lrchs.org
SUMMARY:School Play - The Outsiders
DESCRIPTION:This special time to see the play is for 8th graders
URL:https://www.lrchs.org/event/school-play-the-outsiders/
LOCATION:Catholic High School
CATEGORIES:LRCHS
END:VEVENT
BEGIN:VEVENT
DTSTART;VALUE=DATE:20260423
DTEND;VALUE=DATE:20260425
DTSTAMP:20260421T192548
CREATED:20250619T214606Z
LAST-MODIFIED:20250619T214606Z
UID:15137-1776902400-1777075199@www.lrchs.org
SUMMARY:Msgr. George Tribou Memorial Tournament
DESCRIPTION:
URL:https://www.lrchs.org/event/msgr-george-tribou-memorial-tournament-2/
LOCATION:Rebsamen Golf Course
CATEGORIES:LRCHS
END:VEVENT
BEGIN:VEVENT
DTSTART;VALUE=DATE:20260424
DTEND;VALUE=DATE:20260425
DTSTAMP:20260421T192548
CREATED:20260417T145226Z
LAST-MODIFIED:20260417T145226Z
UID:15393-1776988800-1777075199@www.lrchs.org
SUMMARY:School is Closed
DESCRIPTION:
URL:https://www.lrchs.org/event/school-is-closed/
CATEGORIES:LRCHS
END:VEVENT
BEGIN:VEVENT
DTSTART;VALUE=DATE:20260425
DTEND;VALUE=DATE:20260426
DTSTAMP:20260421T192548
CREATED:20260309T151116Z
LAST-MODIFIED:20260309T151116Z
UID:15375-1777075200-1777161599@www.lrchs.org
SUMMARY:JROTC Drill Competition
DESCRIPTION:
URL:https://www.lrchs.org/event/jrotc-drill-competition/
CATEGORIES:LRCHS
END:VEVENT
BEGIN:VEVENT
DTSTART;TZID=America/Chicago:20260428T081500
DTEND;TZID=America/Chicago:20260428T090000
DTSTAMP:20260421T192548
CREATED:20250717T221702Z
LAST-MODIFIED:20250717T221702Z
UID:15182-1777364100-1777366800@www.lrchs.org
SUMMARY:Closing School Mass
DESCRIPTION:
URL:https://www.lrchs.org/event/closing-school-mass-9/
CATEGORIES:LRCHS
END:VEVENT
BEGIN:VEVENT
DTSTART;TZID=America/Chicago:20260429T170000
DTEND;TZID=America/Chicago:20260429T200000
DTSTAMP:20260421T192548
CREATED:20250619T214634Z
LAST-MODIFIED:20250619T214634Z
UID:15138-1777482000-1777492800@www.lrchs.org
SUMMARY:Sports Banquet
DESCRIPTION:
URL:https://www.lrchs.org/event/sports-banquet-4/
LOCATION:Catholic High School
CATEGORIES:LRCHS
END:VEVENT
BEGIN:VEVENT
DTSTART;TZID=America/Chicago:20260501T093000
DTEND;TZID=America/Chicago:20260501T113000
DTSTAMP:20260421T192548
CREATED:20250619T215013Z
LAST-MODIFIED:20250619T215013Z
UID:15144-1777627800-1777635000@www.lrchs.org
SUMMARY:Senior Class Mass at the Carmelite Monastery
DESCRIPTION:
URL:https://www.lrchs.org/event/senior-class-mass-at-the-carmelite-monastery/
CATEGORIES:LRCHS
END:VEVENT
BEGIN:VEVENT
DTSTART;TZID=America/Chicago:20260503T170000
DTEND;TZID=America/Chicago:20260503T190000
DTSTAMP:20260421T192548
CREATED:20250619T214713Z
LAST-MODIFIED:20250619T214713Z
UID:15139-1777827600-1777834800@www.lrchs.org
SUMMARY:Senior BBQ - Seniors Only
DESCRIPTION:
URL:https://www.lrchs.org/event/senior-bbq-seniors-only-4/
LOCATION:Catholic High School
CATEGORIES:LRCHS
END:VEVENT
BEGIN:VEVENT
DTSTART;VALUE=DATE:20260504
DTEND;VALUE=DATE:20260505
DTSTAMP:20260421T192548
CREATED:20250619T214738Z
LAST-MODIFIED:20250619T214738Z
UID:15140-1777852800-1777939199@www.lrchs.org
SUMMARY:Last Day of Classes - Seniors
DESCRIPTION:
URL:https://www.lrchs.org/event/last-day-of-classes-seniors-3/
CATEGORIES:LRCHS
END:VEVENT
BEGIN:VEVENT
DTSTART;TZID=America/Chicago:20260504T080000
DTEND;TZID=America/Chicago:20260504T090000
DTSTAMP:20260421T192548
CREATED:20250619T214820Z
LAST-MODIFIED:20250619T214820Z
UID:15141-1777881600-1777885200@www.lrchs.org
SUMMARY:Senior Breakfast Hosted by the Young Alumni Board
DESCRIPTION:
URL:https://www.lrchs.org/event/senior-breakfast-hosted-by-the-young-alumni-board/
LOCATION:Catholic High School
CATEGORIES:LRCHS
END:VEVENT
BEGIN:VEVENT
DTSTART;VALUE=DATE:20260505
DTEND;VALUE=DATE:20260508
DTSTAMP:20260421T192548
CREATED:20250619T214859Z
LAST-MODIFIED:20250619T214859Z
UID:15142-1777939200-1778198399@www.lrchs.org
SUMMARY:Senior Exams
DESCRIPTION:
URL:https://www.lrchs.org/event/senior-exams-8/
CATEGORIES:LRCHS
END:VEVENT
BEGIN:VEVENT
DTSTART;TZID=America/Chicago:20260505T183000
DTEND;TZID=America/Chicago:20260505T200000
DTSTAMP:20260421T192548
CREATED:20260309T151219Z
LAST-MODIFIED:20260309T151219Z
UID:15376-1778005800-1778011200@www.lrchs.org
SUMMARY:Art Show and Band Concert
DESCRIPTION:
URL:https://www.lrchs.org/event/art-show-and-band-concert/
LOCATION:Catholic High School
CATEGORIES:LRCHS
END:VEVENT
BEGIN:VEVENT
DTSTART;TZID=America/Chicago:20260506T170000
DTEND;TZID=America/Chicago:20260506T190000
DTSTAMP:20260421T192548
CREATED:20260309T151304Z
LAST-MODIFIED:20260309T151304Z
UID:15377-1778086800-1778094000@www.lrchs.org
SUMMARY:Crawfish Boil and Purple and Gold Game
DESCRIPTION:
URL:https://www.lrchs.org/event/crawfish-boil-and-purple-and-gold-game/
LOCATION:Catholic High School
CATEGORIES:LRCHS
END:VEVENT
BEGIN:VEVENT
DTSTART;TZID=America/Chicago:20260508T090000
DTEND;TZID=America/Chicago:20260508T130000
DTSTAMP:20260421T192548
CREATED:20250619T214929Z
LAST-MODIFIED:20250619T214929Z
UID:15143-1778230800-1778245200@www.lrchs.org
SUMMARY:Senior Picnic
DESCRIPTION:
URL:https://www.lrchs.org/event/senior-picnic-10/
CATEGORIES:LRCHS
END:VEVENT
BEGIN:VEVENT
DTSTART;TZID=America/Chicago:20260511T100000
DTEND;TZID=America/Chicago:20260513T120000
DTSTAMP:20260421T192548
CREATED:20250717T221744Z
LAST-MODIFIED:20250717T221744Z
UID:15183-1778493600-1778673600@www.lrchs.org
SUMMARY:Graduation Practice for Seniors
DESCRIPTION:
URL:https://www.lrchs.org/event/graduation-practice-for-seniors-5/
CATEGORIES:LRCHS
END:VEVENT
BEGIN:VEVENT
DTSTART;VALUE=DATE:20260514
DTEND;VALUE=DATE:20260515
DTSTAMP:20260421T192548
CREATED:20250619T215053Z
LAST-MODIFIED:20250619T215053Z
UID:15145-1778716800-1778803199@www.lrchs.org
SUMMARY:Last Day of Classes for Underclassmen
DESCRIPTION:
URL:https://www.lrchs.org/event/last-day-of-classes-for-underclassmen-3/
CATEGORIES:LRCHS
END:VEVENT
END:VCALENDAR