BEGIN:VCALENDAR
VERSION:2.0
PRODID:-//Catholic High School for Boys - ECPv6.15.14//NONSGML v1.0//EN
CALSCALE:GREGORIAN
METHOD:PUBLISH
X-ORIGINAL-URL:https://www.lrchs.org
X-WR-CALDESC:Events for Catholic High School for Boys
REFRESH-INTERVAL;VALUE=DURATION:PT1H
X-Robots-Tag:noindex
X-PUBLISHED-TTL:PT1H
BEGIN:VTIMEZONE
TZID:America/Chicago
BEGIN:DAYLIGHT
TZOFFSETFROM:-0600
TZOFFSETTO:-0500
TZNAME:CDT
DTSTART:20160313T080000
END:DAYLIGHT
BEGIN:STANDARD
TZOFFSETFROM:-0500
TZOFFSETTO:-0600
TZNAME:CST
DTSTART:20161106T070000
END:STANDARD
BEGIN:DAYLIGHT
TZOFFSETFROM:-0600
TZOFFSETTO:-0500
TZNAME:CDT
DTSTART:20170312T080000
END:DAYLIGHT
BEGIN:STANDARD
TZOFFSETFROM:-0500
TZOFFSETTO:-0600
TZNAME:CST
DTSTART:20171105T070000
END:STANDARD
BEGIN:DAYLIGHT
TZOFFSETFROM:-0600
TZOFFSETTO:-0500
TZNAME:CDT
DTSTART:20180311T080000
END:DAYLIGHT
BEGIN:STANDARD
TZOFFSETFROM:-0500
TZOFFSETTO:-0600
TZNAME:CST
DTSTART:20181104T070000
END:STANDARD
END:VTIMEZONE
BEGIN:VEVENT
DTSTART;VALUE=DATE:20170914
DTEND;VALUE=DATE:20170915
DTSTAMP:20260422T053008
CREATED:20170822T135635Z
LAST-MODIFIED:20170822T135635Z
UID:11868-1505347200-1505433599@www.lrchs.org
SUMMARY:CHS Tennis Match
DESCRIPTION:vs. FS Northside
URL:https://www.lrchs.org/event/chs-tennis-match-3/
CATEGORIES:LRCHS
END:VEVENT
BEGIN:VEVENT
DTSTART;TZID=America/Chicago:20170914T180000
DTEND;TZID=America/Chicago:20170914T200000
DTSTAMP:20260422T053008
CREATED:20170822T135705Z
LAST-MODIFIED:20170822T135705Z
UID:11869-1505412000-1505419200@www.lrchs.org
SUMMARY:Freshmen Football Game
DESCRIPTION:vs. Conway White
URL:https://www.lrchs.org/event/freshmen-football-game-13/
CATEGORIES:LRCHS
END:VEVENT
BEGIN:VEVENT
DTSTART;TZID=America/Chicago:20170915T190000
DTEND;TZID=America/Chicago:20170915T210000
DTSTAMP:20260422T053008
CREATED:20170602T142024Z
LAST-MODIFIED:20170602T142024Z
UID:11851-1505502000-1505509200@www.lrchs.org
SUMMARY:Varsity Football Game
DESCRIPTION:@ Jonesboro \nTonight’s Rocket Football Game will be on KASR 92.7 radio and CSNSports.net CH. 2 in Little Rock. Game will also be shown again on CSN Saturday at 10:30 a.m. Go Rockets beat Jonesboro!!
URL:https://www.lrchs.org/event/varsity-football-game-3/
CATEGORIES:LRCHS
END:VEVENT
BEGIN:VEVENT
DTSTART;TZID=America/Chicago:20170918T180000
DTEND;TZID=America/Chicago:20170918T200000
DTSTAMP:20260422T053008
CREATED:20170823T130749Z
LAST-MODIFIED:20170823T130749Z
UID:11982-1505757600-1505764800@www.lrchs.org
SUMMARY:JV Football Game
DESCRIPTION:vs. Central
URL:https://www.lrchs.org/event/jv-football-game-2/
CATEGORIES:LRCHS
END:VEVENT
BEGIN:VEVENT
DTSTART;VALUE=DATE:20170919
DTEND;VALUE=DATE:20170920
DTSTAMP:20260422T053008
CREATED:20170822T135735Z
LAST-MODIFIED:20170822T135735Z
UID:11870-1505779200-1505865599@www.lrchs.org
SUMMARY:CHS Tennis Match
DESCRIPTION:vs. NLR
URL:https://www.lrchs.org/event/chs-tennis-match-4/
CATEGORIES:LRCHS
END:VEVENT
BEGIN:VEVENT
DTSTART;VALUE=DATE:20170920
DTEND;VALUE=DATE:20170921
DTSTAMP:20260422T053008
CREATED:20170822T135758Z
LAST-MODIFIED:20170822T135758Z
UID:11871-1505865600-1505951999@www.lrchs.org
SUMMARY:School Pictures
DESCRIPTION:9-10-11
URL:https://www.lrchs.org/event/school-pictures/
CATEGORIES:LRCHS
END:VEVENT
BEGIN:VEVENT
DTSTART;VALUE=DATE:20170921
DTEND;VALUE=DATE:20170922
DTSTAMP:20260422T053008
CREATED:20170822T140036Z
LAST-MODIFIED:20170822T140036Z
UID:11875-1505952000-1506038399@www.lrchs.org
SUMMARY:CHS Tennis Match
DESCRIPTION:vs. FS Southside
URL:https://www.lrchs.org/event/chs-tennis-match-5/
CATEGORIES:LRCHS
END:VEVENT
BEGIN:VEVENT
DTSTART;TZID=America/Chicago:20170921T170000
DTEND;TZID=America/Chicago:20170921T200000
DTSTAMP:20260422T053008
CREATED:20170113T183759Z
LAST-MODIFIED:20170113T183759Z
UID:11758-1506013200-1506024000@www.lrchs.org
SUMMARY:Annual Alumni Dinner
DESCRIPTION:
URL:https://www.lrchs.org/event/annual-alumni-dinner/
CATEGORIES:LRCHS
END:VEVENT
BEGIN:VEVENT
DTSTART;TZID=America/Chicago:20170921T190000
DTEND;TZID=America/Chicago:20170921T210000
DTSTAMP:20260422T053008
CREATED:20170822T140127Z
LAST-MODIFIED:20170822T140127Z
UID:11876-1506020400-1506027600@www.lrchs.org
SUMMARY:Freshmen Football Game
DESCRIPTION:vs. Russellville
URL:https://www.lrchs.org/event/freshmen-football-game-14/
CATEGORIES:LRCHS
END:VEVENT
BEGIN:VEVENT
DTSTART;TZID=America/Chicago:20170922T170000
DTEND;TZID=America/Chicago:20170922T190000
DTSTAMP:20260422T053008
CREATED:20170113T183835Z
LAST-MODIFIED:20170113T183835Z
UID:11759-1506099600-1506106800@www.lrchs.org
SUMMARY:Homecoming Tailgate Picnic
DESCRIPTION:
URL:https://www.lrchs.org/event/homecoming-tailgate-picnic/
CATEGORIES:LRCHS
END:VEVENT
BEGIN:VEVENT
DTSTART;TZID=America/Chicago:20170922T190000
DTEND;TZID=America/Chicago:20170922T210000
DTSTAMP:20260422T053008
CREATED:20170602T145720Z
LAST-MODIFIED:20170602T145720Z
UID:11852-1506106800-1506114000@www.lrchs.org
SUMMARY:Varsity Football Game (Homecoming)
DESCRIPTION:vs. Cabot
URL:https://www.lrchs.org/event/varsity-football-game-homecoming/
CATEGORIES:LRCHS
END:VEVENT
BEGIN:VEVENT
DTSTART;TZID=America/Chicago:20170923T190000
DTEND;TZID=America/Chicago:20170923T220000
DTSTAMP:20260422T053008
CREATED:20170822T140152Z
LAST-MODIFIED:20170822T140152Z
UID:11877-1506193200-1506204000@www.lrchs.org
SUMMARY:Homecoming Dance
DESCRIPTION:location TBD
URL:https://www.lrchs.org/event/homecoming-dance/
CATEGORIES:LRCHS
END:VEVENT
BEGIN:VEVENT
DTSTART;VALUE=DATE:20170926
DTEND;VALUE=DATE:20170927
DTSTAMP:20260422T053008
CREATED:20170822T140220Z
LAST-MODIFIED:20170822T140220Z
UID:11878-1506384000-1506470399@www.lrchs.org
SUMMARY:CHS Tennis Match
DESCRIPTION:vs. Conway
URL:https://www.lrchs.org/event/chs-tennis-match-6/
CATEGORIES:LRCHS
END:VEVENT
BEGIN:VEVENT
DTSTART;VALUE=DATE:20170928
DTEND;VALUE=DATE:20170929
DTSTAMP:20260422T053008
CREATED:20170822T140300Z
LAST-MODIFIED:20170822T140300Z
UID:11879-1506556800-1506643199@www.lrchs.org
SUMMARY:CHS Tennis Match
DESCRIPTION:vs. Central
URL:https://www.lrchs.org/event/chs-tennis-match-7/
CATEGORIES:LRCHS
END:VEVENT
BEGIN:VEVENT
DTSTART;TZID=America/Chicago:20170928T190000
DTEND;TZID=America/Chicago:20170928T200000
DTSTAMP:20260422T053008
CREATED:20170822T140338Z
LAST-MODIFIED:20170822T140338Z
UID:11880-1506625200-1506628800@www.lrchs.org
SUMMARY:Freshmen Football Game
DESCRIPTION:vs. Cabot South
URL:https://www.lrchs.org/event/freshmen-football-game-15/
CATEGORIES:LRCHS
END:VEVENT
BEGIN:VEVENT
DTSTART;VALUE=DATE:20170929
DTEND;VALUE=DATE:20170930
DTSTAMP:20260422T053008
CREATED:20170822T140410Z
LAST-MODIFIED:20170822T140410Z
UID:11881-1506643200-1506729599@www.lrchs.org
SUMMARY:Arkansas Catholic Professional Day - School Closed
DESCRIPTION:
URL:https://www.lrchs.org/event/arkansas-catholic-professional-day-school-closed/
CATEGORIES:LRCHS
END:VEVENT
BEGIN:VEVENT
DTSTART;TZID=America/Chicago:20170929T190000
DTEND;TZID=America/Chicago:20170929T210000
DTSTAMP:20260422T053008
CREATED:20170602T145753Z
LAST-MODIFIED:20170602T145753Z
UID:11853-1506711600-1506718800@www.lrchs.org
SUMMARY:Varsity Football Game
DESCRIPTION:@ Bryant
URL:https://www.lrchs.org/event/varsity-football-game-4/
CATEGORIES:LRCHS
END:VEVENT
BEGIN:VEVENT
DTSTART;TZID=America/Chicago:20171002T183000
DTEND;TZID=America/Chicago:20171002T203000
DTSTAMP:20260422T053008
CREATED:20170823T130824Z
LAST-MODIFIED:20170823T130824Z
UID:11983-1506969000-1506976200@www.lrchs.org
SUMMARY:JV Football Game
DESCRIPTION:
URL:https://www.lrchs.org/event/jv-football-game-3/
CATEGORIES:LRCHS
END:VEVENT
BEGIN:VEVENT
DTSTART;TZID=America/Chicago:20171003T081500
DTEND;TZID=America/Chicago:20171003T091500
DTSTAMP:20260422T053008
CREATED:20170822T140603Z
LAST-MODIFIED:20170822T140603Z
UID:11882-1507018500-1507022100@www.lrchs.org
SUMMARY:Senior Mass
DESCRIPTION:
URL:https://www.lrchs.org/event/senior-mass-5/
CATEGORIES:LRCHS
END:VEVENT
BEGIN:VEVENT
DTSTART;TZID=America/Chicago:20171005T180000
DTEND;TZID=America/Chicago:20171005T200000
DTSTAMP:20260422T053008
CREATED:20170822T140632Z
LAST-MODIFIED:20170822T140632Z
UID:11883-1507226400-1507233600@www.lrchs.org
SUMMARY:Freshmen Football Game
DESCRIPTION:vs. Bryant
URL:https://www.lrchs.org/event/freshmen-football-game-16/
CATEGORIES:LRCHS
END:VEVENT
BEGIN:VEVENT
DTSTART;TZID=America/Chicago:20171006T190000
DTEND;TZID=America/Chicago:20171006T210000
DTSTAMP:20260422T053008
CREATED:20170602T145833Z
LAST-MODIFIED:20170602T145833Z
UID:11854-1507316400-1507323600@www.lrchs.org
SUMMARY:Varsity Football Game
DESCRIPTION:vs. Northside
URL:https://www.lrchs.org/event/varsity-football-game-5/
CATEGORIES:LRCHS
END:VEVENT
BEGIN:VEVENT
DTSTART;VALUE=DATE:20171007
DTEND;VALUE=DATE:20171008
DTSTAMP:20260422T053008
CREATED:20170822T140647Z
LAST-MODIFIED:20170822T140647Z
UID:11884-1507334400-1507420799@www.lrchs.org
SUMMARY:SAT Exam
DESCRIPTION:
URL:https://www.lrchs.org/event/sat-exam-6/
CATEGORIES:LRCHS
END:VEVENT
BEGIN:VEVENT
DTSTART;TZID=America/Chicago:20171009T060000
DTEND;TZID=America/Chicago:20171009T200000
DTSTAMP:20260422T053008
CREATED:20170823T130851Z
LAST-MODIFIED:20170823T130851Z
UID:11984-1507528800-1507579200@www.lrchs.org
SUMMARY:JV Football Game
DESCRIPTION:vs. Benton
URL:https://www.lrchs.org/event/jv-football-game-4/
CATEGORIES:LRCHS
END:VEVENT
BEGIN:VEVENT
DTSTART;TZID=America/Chicago:20171011T090000
DTEND;TZID=America/Chicago:20171011T120000
DTSTAMP:20260422T053008
CREATED:20170822T140727Z
LAST-MODIFIED:20170822T140727Z
UID:11885-1507712400-1507723200@www.lrchs.org
SUMMARY:PSAT Exam
DESCRIPTION:Sophomores and Juniors
URL:https://www.lrchs.org/event/psat-exam/
CATEGORIES:LRCHS
END:VEVENT
BEGIN:VEVENT
DTSTART;VALUE=DATE:20171012
DTEND;VALUE=DATE:20171013
DTSTAMP:20260422T053008
CREATED:20170822T140807Z
LAST-MODIFIED:20170822T140807Z
UID:11886-1507766400-1507852799@www.lrchs.org
SUMMARY:Picture Retake/Make-Up (SR. Retake)
DESCRIPTION:9-10-11
URL:https://www.lrchs.org/event/picture-retakemake-up-sr-retake/
CATEGORIES:LRCHS
END:VEVENT
BEGIN:VEVENT
DTSTART;TZID=America/Chicago:20171012T180000
DTEND;TZID=America/Chicago:20171012T200000
DTSTAMP:20260422T053008
CREATED:20170822T140845Z
LAST-MODIFIED:20170822T140845Z
UID:11887-1507831200-1507838400@www.lrchs.org
SUMMARY:Freshmen Football Game
DESCRIPTION:vs. Benton
URL:https://www.lrchs.org/event/freshmen-football-game-17/
CATEGORIES:LRCHS
END:VEVENT
BEGIN:VEVENT
DTSTART;TZID=America/Chicago:20171013T190000
DTEND;TZID=America/Chicago:20171013T210000
DTSTAMP:20260422T053008
CREATED:20170602T145912Z
LAST-MODIFIED:20170602T145912Z
UID:11855-1507921200-1507928400@www.lrchs.org
SUMMARY:Varsity Football Game
DESCRIPTION:@ North Little Rock
URL:https://www.lrchs.org/event/varsity-football-game-6/
CATEGORIES:LRCHS
END:VEVENT
BEGIN:VEVENT
DTSTART;VALUE=DATE:20171016
DTEND;VALUE=DATE:20171018
DTSTAMP:20260422T053008
CREATED:20170822T140910Z
LAST-MODIFIED:20170822T140910Z
UID:11888-1508112000-1508284799@www.lrchs.org
SUMMARY:Quarter Exams
DESCRIPTION:
URL:https://www.lrchs.org/event/quarter-exams/
CATEGORIES:LRCHS
END:VEVENT
BEGIN:VEVENT
DTSTART;TZID=America/Chicago:20171016T180000
DTEND;TZID=America/Chicago:20171016T200000
DTSTAMP:20260422T053008
CREATED:20170823T130919Z
LAST-MODIFIED:20170823T130919Z
UID:11985-1508176800-1508184000@www.lrchs.org
SUMMARY:JV Football Game
DESCRIPTION:vs. Parkview
URL:https://www.lrchs.org/event/jv-football-game-5/
CATEGORIES:LRCHS
END:VEVENT
BEGIN:VEVENT
DTSTART;TZID=America/Chicago:20171019T190000
DTEND;TZID=America/Chicago:20171019T210000
DTSTAMP:20260422T053008
CREATED:20170822T140958Z
LAST-MODIFIED:20170822T140958Z
UID:11889-1508439600-1508446800@www.lrchs.org
SUMMARY:Freshmen Football Game
DESCRIPTION:vs. Cabot North
URL:https://www.lrchs.org/event/freshmen-football-game-18/
CATEGORIES:LRCHS
END:VEVENT
END:VCALENDAR