BEGIN:VCALENDAR
VERSION:2.0
PRODID:-//Catholic High School for Boys - ECPv6.15.14//NONSGML v1.0//EN
CALSCALE:GREGORIAN
METHOD:PUBLISH
X-ORIGINAL-URL:https://www.lrchs.org
X-WR-CALDESC:Events for Catholic High School for Boys
REFRESH-INTERVAL;VALUE=DURATION:PT1H
X-Robots-Tag:noindex
X-PUBLISHED-TTL:PT1H
BEGIN:VTIMEZONE
TZID:UTC
BEGIN:STANDARD
TZOFFSETFROM:+0000
TZOFFSETTO:+0000
TZNAME:UTC
DTSTART:20210101T000000
END:STANDARD
END:VTIMEZONE
BEGIN:VEVENT
DTSTART;TZID=UTC:20220726T180000
DTEND;TZID=UTC:20220726T190000
DTSTAMP:20260421T101026
CREATED:20220714T203050Z
LAST-MODIFIED:20220714T203126Z
UID:13560-1658858400-1658862000@www.lrchs.org
SUMMARY:Soccer Tryouts
DESCRIPTION:**Players DO NOT have to attend all tryouts. We are hosting 5 sessions in an attempt to accommodate summer travel plans. \nWear: Soccer appropriate apparel. Water will be available. \nIf you have any questions or concerns\, please contact Coach Ryan Lawrence at rlawrence@lrchs.org.
URL:https://www.lrchs.org/event/soccer-tryouts/
LOCATION:Catholic High School
CATEGORIES:LRCHS
END:VEVENT
BEGIN:VEVENT
DTSTART;TZID=UTC:20220727T180000
DTEND;TZID=UTC:20220727T190000
DTSTAMP:20260421T101026
CREATED:20220714T203201Z
LAST-MODIFIED:20220714T203201Z
UID:13561-1658944800-1658948400@www.lrchs.org
SUMMARY:Soccer Tryouts
DESCRIPTION:**Players DO NOT have to attend all tryouts. We are hosting 5 sessions in an attempt to accommodate summer travel plans. \nWear: Soccer appropriate apparel. Water will be available. \nIf you have any questions or concerns\, please contact Coach Ryan Lawrence at rlawrence@lrchs.org.
URL:https://www.lrchs.org/event/soccer-tryouts-2/
LOCATION:Catholic High School
CATEGORIES:LRCHS
END:VEVENT
BEGIN:VEVENT
DTSTART;TZID=UTC:20220727T180000
DTEND;TZID=UTC:20220727T200000
DTSTAMP:20260421T101026
CREATED:20220714T203656Z
LAST-MODIFIED:20220714T203656Z
UID:13565-1658944800-1658952000@www.lrchs.org
SUMMARY:Baseball Tryouts
DESCRIPTION:**All players interested in trying out must fill out the following form: \nhttps://docs.google.com/forms/d/1JIJa_ggSPEfSFN21fNPIfe1TZ1zpg452j_902r2P8gc/edit \n  \nEmail Coach Bryan Jones\, bjones@lrchs.org\, if you have any questions or concerns.
URL:https://www.lrchs.org/event/baseball-tryouts/
LOCATION:Lamar Porter Field
CATEGORIES:LRCHS
END:VEVENT
BEGIN:VEVENT
DTSTART;TZID=UTC:20220728T180000
DTEND;TZID=UTC:20220728T190000
DTSTAMP:20260421T101026
CREATED:20220714T203348Z
LAST-MODIFIED:20220714T203348Z
UID:13562-1659031200-1659034800@www.lrchs.org
SUMMARY:Soccer Tryouts
DESCRIPTION:**Players DO NOT have to attend all tryouts. We are hosting 5 sessions in an attempt to accommodate summer travel plans. \nWear: Soccer appropriate apparel. Water will be available. \nIf you have any questions or concerns\, please contact Coach Ryan Lawrence at rlawrence@lrchs.org.
URL:https://www.lrchs.org/event/soccer-tryouts-3/
LOCATION:Catholic High School
CATEGORIES:LRCHS
END:VEVENT
BEGIN:VEVENT
DTSTART;TZID=UTC:20220728T180000
DTEND;TZID=UTC:20220728T200000
DTSTAMP:20260421T101026
CREATED:20220714T203733Z
LAST-MODIFIED:20220714T203733Z
UID:13567-1659031200-1659038400@www.lrchs.org
SUMMARY:Baseball Tryouts
DESCRIPTION:**All players interested in trying out must fill out the following form: \nhttps://docs.google.com/forms/d/1JIJa_ggSPEfSFN21fNPIfe1TZ1zpg452j_902r2P8gc/edit \n  \nEmail Coach Bryan Jones\, bjones@lrchs.org\, if you have any questions or concerns.
URL:https://www.lrchs.org/event/baseball-tryouts-2/
LOCATION:Lamar Porter Field
CATEGORIES:LRCHS
END:VEVENT
BEGIN:VEVENT
DTSTART;TZID=UTC:20220729T180000
DTEND;TZID=UTC:20220729T200000
DTSTAMP:20260421T101026
CREATED:20220714T203805Z
LAST-MODIFIED:20220714T203805Z
UID:13568-1659117600-1659124800@www.lrchs.org
SUMMARY:Baseball Tryouts
DESCRIPTION:**All players interested in trying out must fill out the following form: \nhttps://docs.google.com/forms/d/1JIJa_ggSPEfSFN21fNPIfe1TZ1zpg452j_902r2P8gc/edit \n  \nEmail Coach Bryan Jones\, bjones@lrchs.org\, if you have any questions or concerns.
URL:https://www.lrchs.org/event/baseball-tryouts-3/
LOCATION:Lamar Porter Field
CATEGORIES:LRCHS
END:VEVENT
BEGIN:VEVENT
DTSTART;TZID=UTC:20220731T173000
DTEND;TZID=UTC:20220731T190000
DTSTAMP:20260421T101026
CREATED:20220722T003622Z
LAST-MODIFIED:20220722T003622Z
UID:13680-1659288600-1659294000@www.lrchs.org
SUMMARY:Rocket Mom Happy Hour
DESCRIPTION:The CHS Rocket Moms will host a Happy Hour on Sunday\, July 31.  This is a great time to meet other CHS families and purchase new rocket merchandise.  Mr. Straessle and Father Fred will be speaking around 6:00.  For those of you who are new to the CHS family\, Rocket Moms is an organization of parents that assists the CHS Booster Club by volunteering and coordinating events throughout the school year. The primary goal is to create a broad volunteer pool of parents from all grades. It’s a great way to meet other parents and have some fun. Your child does not have to participate in sports in order for you to sign up. We just need your time and talents to support the extracurricular activities offered at Catholic High. \nPlus\, you are able to shop all the new CHS merchandise in advance of registration. The items will sell out fast\, so if you would like to shop\, come to the party!
URL:https://www.lrchs.org/event/rocket-mom-happy-hour-2/
LOCATION:Catholic High School
CATEGORIES:LRCHS
END:VEVENT
END:VCALENDAR